BEGIN:VCALENDAR
BEGIN:VEVENT
CLASS:PUBLIC
CREATED:20260423T003554
DESCRIPTION:Inscription à la carte avec le club d\'exploration Ti-Mousse dans Brousse de Charlevoix


Quoi
Sorties familiales extérieures qui vous permettront de découvrir ou redécouvrir différents parcs et sites naturels à chaque semaine dans la magnifique région de Charlevoix. Une occasion pour randonnée avec bébé et d\'apprendre à transformer les petites choses en moments grandioses. Idéal pour les 0-5 ans. Nous offrons le prêt gratuit de porte-bébé préformés Chimparoo au besoin sous réservation.
Découvertes, surprises, invités spéciaux et chocolat chaud inclus!





Vendredi 12 octobre: Belvédère de la Halte des bouleaux à Saint-Siméon 


 	Adresse: Halte routière des bouleaux à Saint-Siméon (à gauche avant d\'arriver au village)
 	RV dans le stationnement de la halte routière



En cas de pluie, un message courriel vous sera envoyé à 8h le vendredi matin pour vous préciser si l\'activité extérieure a toujours lieu à l\'endroit prévu ou si nous nous rencontrerons dans un local ou à la pataugeoire au Complexe sportif de La Malbaie. Aucune activité ne sera annulée mais en cas de mauvais temps, nous remplacerons la balade par un atelier abordant une thématique en lien avec les jeunes enfants et le plaine air / voyage.

Complexe sportif de La Malbaie est situé au:
104 Boulevard Kane, La Malbaie, QC G5A 0A8


À noter:


 	

 	Nous n\'aurons pas accès à des toilettes lors de nos activités. Je vous conseille donc de faire un changement de couche avant de partir.




 	Nous avons aussi quelques porte-bébé Chimparoo à faire essayer et je vous invite à me confirmer votre intérêt à en essayer un avant mercredi afin de m\'assurer d\'en avoir en quantité suffisante. Il ne sera pas possible d\'aller marcher avec une poussette. Le portage est donc le moyen privilégié. Nous aurons quelques traineaux si jamais il reste suffisamment de neige dans les sentiers pour les utiliser.
 	Apportez un rechange pour changer une couche, bouteille d\'eau, collation pour motiver vos petits, bonnes chaussures de marche imperméable ou de pluie, pour marcher confortablement dans la boue et l\'eau.





Pour plus d\'information composez le 418-434-2579
DTEND:20181012T113000
DTSTAMP:20260423T003554
DTSTART:20181012T100000
LAST-MODIFIED:20091109T101015Z
LOCATION:Halte routière des bouleaux à Saint-Siméon , , Saint-Siméon , Québec, 
SUMMARY;LANGUAGE=en-us:Sortie d'exploration avec le Club de Charlevoix - Saint-Siméon
BEGIN:VALARM
TRIGGER:-PT1440M
ACTION:DISPLAY
DESCRIPTION:Reminder
END:VALARM
END:VEVENT
END:VCALENDAR
