BEGIN:VCALENDAR
BEGIN:VEVENT
CLASS:PUBLIC
CREATED:20260422T235349
DESCRIPTION:



Atelier offert en collaboration avec Minimum Café 

Tu souhaites profiter de l\'hiver avec ton mini, mais tu te demandes comment faire?

Cet atelier te permettra de mieux comprendre les bases de :

 	L\'habillement
 	Les principes de conservation de chaleur et la gestion de perte de chaleur
 	Les modes de déplacement sur la neige (traineaux, poussettes et porte-bébés)
 	L\'hydratation et l\'alimentation
 	Les refroidissements et les engelures




DTEND:20181120T150000
DTSTAMP:20260422T235349
DTSTART:20181120T133000
LAST-MODIFIED:20091109T101015Z
LOCATION:96, route 138, Donnacona, Québec, G3M 1B4
SUMMARY;LANGUAGE=en-us:Atelier: L'art de profiter de l'hiver avec bébé
BEGIN:VALARM
TRIGGER:-PT1440M
ACTION:DISPLAY
DESCRIPTION:Reminder
END:VALARM
END:VEVENT
END:VCALENDAR
