BEGIN:VCALENDAR
BEGIN:VEVENT
CLASS:PUBLIC
CREATED:20260422T235210
DESCRIPTION:Inscription à la carte avec le club d\'exploration Ti-Mousse dans Brousse de Sainte-Brigitte-de-Laval, offert en collaboration avec les Matinées Mères-enfants de SBDL


Quoi
Sorties familiales extérieures qui vous permettront de découvrir ou redécouvrir différents parcs et sites naturels à chaque semaine. Une occasion pour randonnée avec bébé et d\'apprendre à transformer les petites choses en moments grandioses. Idéal pour les 0-5 ans. Nous offrons le prêt gratuit de porte-bébé préformés Chimparoo au besoin sous réservation.
Découvertes, surprises, invités spéciaux et chocolat chaud inclus!


Vendredi 23 novembre: On termine avec le belvédère de la Montagne à Deux-Têtes


 	Adresse: au bout complètement de la rue Auclair, c\'est 3 km plus loin que le stationnement indiqué du départ du sentier. Vous devez monté complètement la rue Auclair, vous vous retrouverez en haut de la montagne en voiture.
 	Stationnement tout au bout de la rue Auclair, dans le stationnement de motoneige l\'hiver (le sentier n\'est pas identifié)

 	Superbe point de vue à moins d\'un kilomètre de marche et qui sait, nous aurons peut-être un peu de neige...






En cas de pluie, un message courriel vous sera envoyé à 8h le vendredi matin pour vous préciser si l\'activité extérieure a toujours lieu à l\'endroit prévu ou si nous nous rencontrerons dans l\'espace des Matinées Mères-enfants situé au:
7 rue de la patinoire, Sainte-Brigitte-de-Laval, G0A 3K0 

Aucune activité ne sera annulée mais en cas de mauvais temps, nous remplacerons la balade par un atelier portant sur la randonnée et l\'hiver avec bébé.



À noter:


 	

 	Nous n\'aurons pas accès à des toilettes lors de nos activités. Je vous conseille donc de faire un changement de couche avant de partir.




 	Nous avons aussi quelques porte-bébé Chimparoo à faire essayer et je vous invite à me confirmer votre intérêt à en essayer un avant mercredi afin de m\'assurer d\'en avoir en quantité suffisante. Il ne sera pas possible d\'aller marcher avec une poussette. Le portage est donc le moyen privilégié. Nous aurons quelques traineaux si jamais il reste suffisamment de neige dans les sentiers pour les utiliser.
 	Apportez un rechange pour changer une couche, bouteille d\'eau, collation pour motiver vos petits, bonnes chaussures de marche imperméable ou de pluie, pour marcher confortablement dans la boue et l\'eau.





Pour plus d\'information composez le 581-888-9836
DTEND:20181123T103000
DTSTAMP:20260422T235210
DTSTART:20181123T090000
LAST-MODIFIED:20091109T101015Z
LOCATION:Montagne à Deux-Têtes, rue Auclair, Sainte-Brigitte-de-Laval, Québec, G0A 3K0 
SUMMARY;LANGUAGE=en-us:Sortie d'exploration avec le Club de Sainte-Brigitte-de-Laval - Montagne à Deux-Têtes
BEGIN:VALARM
TRIGGER:-PT1440M
ACTION:DISPLAY
DESCRIPTION:Reminder
END:VALARM
END:VEVENT
END:VCALENDAR
