BEGIN:VCALENDAR
BEGIN:VEVENT
CLASS:PUBLIC
CREATED:20260422T175045
DESCRIPTION:Découvrir les sous-bois médicinaux et apprendre la fabrication d\'un onguent de sapin cicatrisant avec Capucine Chartrand

Un après-midi en nature et en yourte pour découvrir les trésors cachés de la forêt. Connaissez la saveur des fleurs et des feuilles de pissenlit? Saviez-vous que le plantain peut apaiser vos piqûres d’insectes? Venez découvrir tout un aspect du monde végétal lors d’une ballade à la découverte des plantes médicinales et comestibles. Apprenez à reconnaître les plantes qui vous entourent et qui peuvent vous être utiles au quotidien.

Venez vous balader en famille à la découverte des merveilles de la forêt boréale. Nous y découvrirons les vertus et usages quotidiens de plusieurs plantes et arbres médicinaux. Pleins de plantes qui s’utilisent au quotidien, venez les découvrir. On propose aussi une fabrication d’onguent cicatrisant au sapin baumier. Vous repartez avec un échantillon et la recette. Vous verrez utiliser les plantes médicinales c’est plus simple que vous pensez!

13h30: Accueil et mot de bienvenue
13h45: Randonnée d\'identification des plantes médicinales et comestibles
15h15: Conception d\'un onguent cicatrisant au sapin baumier dans une yourte

Seulement 40$ par adulte et gratuit pour les enfants, 15 places disponibles
__________________________

Cette activité est offerte en collaboration avec Capucine Chartrand, herboriste-thérapeute accréditée et professeure de yoga.

Depuis plus de 15ans, elle a mis au cœur de sa vie la santé et les plantes médicinales. Elle découvre le plein-air à
18 ans lorsqu’elle commence à travailler dans un camp de vacances axé sur le plein air. Une piqûre durable. Depuis, c’est au Québec, qu’elle joue dans la forêt, sur le fleuve en kayak ou sur les lacs en canot. En voyage, elle adore la randonnée et aller à la découverte de plantes médicinales exotiques.
Elle pratique l’herboristerie et l’enseigne à Québec aux Ti Mousse et à leurs parents. Elle accompagne les petits et grands en nature pour leur faire découvrir le monde végétal sous ses aspects comestibles et médicinaux.

Pour plus d\'information: www.herboriste.info

Crédit photo: Christyna Mérette
DTEND:20190607T160000
DTSTAMP:20260422T175045
DTSTART:20190607T133000
LAST-MODIFIED:20091109T101015Z
LOCATION:Centre de l'HÊtre, 39 Chemin Fleming,  Lac-Beauport, Québec, G3B 2K4
SUMMARY;LANGUAGE=en-us:À la découverte des plantes médicinales et comestibles avec Capucine Chartrand
BEGIN:VALARM
TRIGGER:-PT1440M
ACTION:DISPLAY
DESCRIPTION:Reminder
END:VALARM
END:VEVENT
END:VCALENDAR
