BEGIN:VCALENDAR
BEGIN:VEVENT
CLASS:PUBLIC
CREATED:20260422T174725
DESCRIPTION:Inscription pour la session ou à la carte avec le club d\'exploration Ti-Mousse dans Brousse de Sainte-Brigitte-de-Laval, offert en collaboration avec les Matinées Mères-enfants de SBDL

Quoi
4 sorties familiales extérieures qui vous permettront de découvrir ou redécouvrir différents parcs et sites naturels à chaque semaine. Une occasion pour randonner avec bébé et d’apprendre à transformer les petites choses en moments grandioses. Nos sorties ont lieu beau temps, mauvais temps, à moins d’un avertissement de froid extrême et seront, dans ce cas, reportées à une semaine subséquente.
Idéal pour familles ayant au moins un enfant entre 0 et 5 ans. Nous offrons le prêt gratuit de porte-bébé préformés Chimparoo et possiblement d’autres marques au besoin en nous avisant. Chacune de nos sorties sont ponctuées de transmission de connaissance sur la faune, la flore, le savoir-être et le savoir-faire autochtone. De tout pour informer et intéresser petits et grands!

Découvertes, sourires, chocolat chaud et autres surprises incluses!
Descriptions des 4 matinées d\'activités thématiques extérieures les lundis de 10h à 11h30:

Sortie 1 : Mardi 28 mai 2019 – 9h30 à 11h

Accueil et information sur le multicouche adulte et enfant, courte randonnée parents-enfants et porte-bébé inclus au besoin. L’éveil du printemps. Lieu : Stationnement de la Montagne-à-deux-Têtes, Sentier le Montagnard (en bas de la Montagne)

Sortie 2 : Mardi 4 juin 2019 – 9h30 à 11h

On découvre les textures, arbres et maison de lutins Lieu : Le Saisonnier

Sortie 3 : Mardi 11 juin 2019 – 9h30 à 11h

La vie aux abords d’une rivière Lieu: Chapelle Lac-Beauport

Sortie 4 : Mardi 18 juin 2019 – 9h30 à 11h

Chasse aux insectes Lieu: Belvédère de la Montagne-à-deux -Têtes (Stationement au bout de la rue Auclair)

Coût: 50$ par inscription par famille, les grands-parents sont aussi les bienvenus!
Réservation obligatoire, places limitées. Il est aussi possible de venir participer aux activités pour 15$ par adulte pour une journée seulement, vérifiez la disponibilité le jour précédent l’activité en nous écrivant sur notre page Facebook Ti-Mousse dans Brousse.

Un courriel vous sera envoyé avec tous les détails une semaine avant votre première sortie et veuillez noter que les lieux peuvent être interchanger en fonction de la météo, à reconfirmer.

Places limitées, réservation obligatoire: https://timoussedansbrousse.com/evenements-calendrier/

Pour plus d’information composez le 581-888-9836
DTEND:20190618T110000
DTSTAMP:20260422T174725
DTSTART:20190528T093000
LAST-MODIFIED:20091109T101015Z
LOCATION:Sainte-Brigitte-de-Laval, , , , 
SUMMARY;LANGUAGE=en-us:Club d'exploration de Sainte-Brigitte-de-Laval
BEGIN:VALARM
TRIGGER:-PT1440M
ACTION:DISPLAY
DESCRIPTION:Reminder
END:VALARM
END:VEVENT
END:VCALENDAR
