BEGIN:VCALENDAR
BEGIN:VEVENT
CLASS:PUBLIC
CREATED:20260423T083205
DESCRIPTION:L\'équipe de Ti-Mousse dans Brousse - Estrie est heureuse de vous accueillir, dimanche le 21 septembre 2025 au parc Lucien-Blanchard à Sherbrooke, pour une journée de plein air en famille sous les couleurs de l\'automne.

Programmation\"Dépassement de soi et découvertes nature\"

Débuter la journée avec nous aux pas de course, en respect de l\'énergie et du rythme de chacun. Encouragez vos enfants à venir courir ou marcher une boucle de 500 mètres, le plus grand nombre de fois possible en guise de dépassement de soi dans le plaisir. Les parents sont invités à accompagner leurs jeunes enfants pour les soutenir et se dépasser à leur tour.

En pm, rejoignez-nous, ou encore mieux restez avec-nous après la petite boucle aux pas de course de la matinée, pour une après-midi d\'initiations à diverses activités de plein air en famille, auprès de nos guides expérimentées.

Horaire de la journée

Matinée \"Dépassement de soi\"
- 9h30-10h00: Accueil
- 10h: Mot de bienvenue
- 10h15: Départ de \"La P\'tite Boucle aux pas de course\"
- 10h15-11h: le plus de boucles possible au rythme de chacun

Pique-nique automnal
- 11h30-13h: Apportez vot

re lunch pour poursuivre la journée avec nous. Diverses activités vous seront proposées lors de cette pause, tels que cuisson de bannique, tir à l\'arc, jeux de poches, circuit pushbikes, bibliothèque nature et atelier bricolage.

Après-midi \"Découvertes &amp; initiations\"
Venez passer une après-midi entre plage, forêt et rivière pour partager de magnifiques moments en famille et avec la communauté des Ti-Mousse qui aiment la brousse!

Options d\'ateliers animés, d\'environ 45 minutes chacun. Réservation de vos plages horaires sur place à votre arrivée.
13h15-14h: Yoga zen en famille sur la plage
14h15 à 15h00 &amp; 15h15 à 16h00 : Initiation au paddleboard avec enfant
14h15 à 15h00 &amp; 15h15 à 16h00 : Randonnée guidée aux champignons et flore commune

Les activités sont adaptées pour plaire aux très jeunes enfants comme les plus vieux de la fratrie, ainsi qu\'à leurs parents et grands-parents. Les places sont limitées en après-midi, ne tardez pas à rserver votre forfait. En cas d\'annulation pour mauvaise météo, un remboursement complet sera effectué. En cas d\'annulation de votre part, un code vous sera émis pour vous inscrire à une prochaine activité avec nous de la même valeur.

Au plaisir de souligner ensemble, une rentrée haute en couleurs en Estrie!
DTEND:20250921T160000
DTSTAMP:20260423T083205
DTSTART:20250921T093000
LAST-MODIFIED:20091109T101015Z
LOCATION:Parc Lucien-Blanchard, , Sherbrooke, Québec, J1K 2M3
SUMMARY;LANGUAGE=en-us:Lancement Estrie - Évènement plein air familial Sherbrooke
BEGIN:VALARM
TRIGGER:-PT1440M
ACTION:DISPLAY
DESCRIPTION:Reminder
END:VALARM
END:VEVENT
END:VCALENDAR
