BEGIN:VCALENDAR
BEGIN:VEVENT
CLASS:PUBLIC
CREATED:20260421T154430
DESCRIPTION:A l’approche de Noël, Ti-Mousse dans Brousse en collaboration avec l\'École de la forêt du Bois Beckett vous invite à participer à une chasse aux petits lutins des bois. Pour souligner le lancement de nos activités dans la région, on vous reçoit GRATUITEMENT!!!

Des lutins se sont échappés de l’atelier du Père Noël pour aller s’amuser dans la forêt et découvrir des petites merveilles. Saurez-vous tous les retrouver? Habillez-vous chaudement et partez à leur recherche avec nous!

Déroulement de l’activité:

 	Accueil à l\'entrée du jardin communautaire du Bois Beckett, entre les rues Rostand et Pascal à votre heure de réservation entre 13h et 15h30;
 	Départ en bulle famille aux 3 minutes pour partir à la recherche de nos petits lutins des bois qui explorent eux aussi un sentier d\'une courte distance. Capacité de 5 familles par bloc de 15 minutes;
 	Chocolat chaud à votre arrivée en guise de reconnaissance de vos efforts.

IMPORTANT À NOTER:

 	En raison des mesures sanitaires en vigueur, le passeport vaccinal sera obligatoire pour les adultes seulement à votre arrivée.
 	Pour le chocolat chaud, apportez une tasse réutilisable pour nous aider à diminuer notre empreinte.

Inscription obligatoire sur le site de Ti-Mousse dans Brousse. Places limitées.
DTEND:20211222T160000
DTSTAMP:20260421T154430
DTSTART:20211222T130000
LAST-MODIFIED:20091109T101015Z
LOCATION:Bois Beckett, Entrée du jardin communautaire du Bois Beckett, Entre les rues Rostand et Pascal, Sherbrooke, Québec, J1J 4N3
SUMMARY;LANGUAGE=en-us:Chasse aux petits lutins des bois - Bois Beckett, Sherbrooke
BEGIN:VALARM
TRIGGER:-PT1440M
ACTION:DISPLAY
DESCRIPTION:Reminder
END:VALARM
END:VEVENT
END:VCALENDAR
