BEGIN:VCALENDAR
BEGIN:VEVENT
CLASS:PUBLIC
CREATED:20260421T154756
DESCRIPTION:A l’approche de Noël, Ti-Mousse dans Brousse vous invite à participer à une chasse aux lutins dans le petit sentier des pionniers situé à l’entrée du Parc de la Gatineau.

Des lutins se sont échappés de l’atelier du Père Noël pour aller s’amuser dans la forêt et découvrir des petites merveilles. Saurez-vous tous les retrouver? Habillez-vous chaudement et partez à leur recherche avec nous!

Déroulement de l’activité:

 	Accueil dans le stationnement P3 du Parc de la Gatineau à votre heure de réservation entre 9h30 et 11h45;
 	Départ en bulle famille aux 3 minutes pour partir à la recherche de nos petits lutins des bois qui explorent eux aussi le sentier des pionniers (boucle de 1,3 km) Capacité de 5 familles par bloc de 15 minutes;
 	Chocolat chaud à votre arrivée en guise de reconnaissance de vos efforts.

Inscription obligatoire sur le site de Ti-Mousse dans Brousse (10$ par famille). Places limitées.
DTEND:20211212T120000
DTSTAMP:20260421T154756
DTSTART:20211212T093000
LAST-MODIFIED:20091109T101015Z
LOCATION:Parc national de la Gatineau, Stationnement P3, 33 Chemin Scott, Chelsea, Québec, J9B 1R5
SUMMARY;LANGUAGE=en-us:Chasse aux petits lutins des Bois - Parc de la Gatineau
BEGIN:VALARM
TRIGGER:-PT1440M
ACTION:DISPLAY
DESCRIPTION:Reminder
END:VALARM
END:VEVENT
END:VCALENDAR
