BEGIN:VCALENDAR
BEGIN:VEVENT
CLASS:PUBLIC
CREATED:20260423T002914
DESCRIPTION:Randonnée gratuite d\'introduction aux plantes médicinales et comestibles offerte en collaboration avec la Sépaq et le Parc national d\'Oka.

L\'automne est tellement une période de prédilection pour profiter des splendeurs du parc national d\'Oka tout en apprenant à identifier la nature qui nous entoure!

Rendez-vous à 9h30 au Portillon de découverte .

Randonnée Le Calvaire d\'une distance de 4,4 km, sentier avec un dénivelé de 150 m, portage recommandé. Nous offrons gratuitement le prêt de porte-bébé Chimparoo, l\'Écharpe Porte BOnheur. Simplement nous aviser à l\'avance de vos besoins et nous précisant l\'âge de votre enfant.

Période de l\'année sans moustique avec la fin des couleurs et les beautés des marais. On prendra le temps d\'inviter nos enfants à découvrir la nature en identifiant des plantes comestibles et médicinales et en cherchant les derniers champignons que Dame Nature nous offrira.

Apportez votre dîner pour un pique-nique à L\'Orée au retour.
Apportez de l\'eau, des vêtements chauds de rechange et des collationsss.

Réservation obligatoire sur notre site Internet: https://timoussedansbrousse.com/evenements-calendrier/

À noter que vous aurez les frais d’accès du parc de 8,60$ par adulte à débourser si vous n’avez pas d’accès annuel, gratuit pour les enfants de 17 ans et moins. Aucun frais de stationnement puisque la plage n\'est pas surveillée.

Crédit photo: Paul Mackay
DTEND:20181013T140000
DTSTAMP:20260423T002914
DTSTART:20181013T093000
LAST-MODIFIED:20091109T101015Z
LOCATION:Parc national d'Oka, 2020 Chemin d'Oka, Oka, Québec, J0N 1E0
SUMMARY;LANGUAGE=en-us:Randonnée Le Calvaire au parc national d'Oka
BEGIN:VALARM
TRIGGER:-PT1440M
ACTION:DISPLAY
DESCRIPTION:Reminder
END:VALARM
END:VEVENT
END:VCALENDAR
