BEGIN:VCALENDAR
BEGIN:VEVENT
CLASS:PUBLIC
CREATED:20260421T154441
DESCRIPTION:Rando-escargot à venir mardi le 14 décembre prochain! Cette activité s\'adresse à toutes les familles incluant petits marcheurs d’âge préscolaire qui ont envie de découvrir la nature. Bien sûr les bébés en portage sont également les bienvenus. Le rythme sera adapté à nos GRANDS explorateurs.

La Rando-Escargot permet d\'initier les enfants à la randonnée avec d\'autres amis,  dans les plaisir et la bienveillance.

Lieu de rassemblement mardi 14 décembre 9h30:
Devant le Centre de services le Cerisier, Parc du Mont Orford, Secteur Stukely. 200 Chemin du Camping, Orford, Qc. J1X7A2.
Description :
La randonnée débutera par la première partie du sentier du Pékan qui mène au sentier du Coyote jusqu’au refuge du Vieux Camp.  Sentier de 3km, de niveau facile. Les enfants seront nos guides, il est donc possible de faire une partie ou la totalité du sentier.
Apportez

 	Bouteille d\'eau
 	Collations
 	Vêtements approprié et de rechange au besoin, imperméable pour être prêt au surprise de l\'automne parfois imprévisible
 	Un rechange pour changer une couche
 	Bonnes chaussures de marche imperméable ou de pluie, pour marcher confortablement dans la boue et l\'eau

Inclus

 	Frais d\'accès à la Sépaq
 	Boisson chaude
 	Accompagnement bienveillant :)
 	Plaisir et bonne compagnie!

Mesures COVID
Une distance de 2 mètres entre les adultes, et 1 mètre entre les enfants sera exigé en tout temps, et nous demandons à chaque parent de s\'assurer d\'être en mesure de respecter cette mesure. La bonne nouvelle c\'est que dehors, la distanciation est naturelle! Un masque pourrait être exigé si la distanciation n\'est pas respectée.

Plus précisément les objectifs des Randos-Escargots sont de :

- Contrer le déficit nature et partager un moment positif en famille;
- Échanger avec d’autres familles et pourquoi pas se faire de nouveaux amis;
- Découvrir la nature, la connaître et l’aimer
- Initiation au jeu libre en nature
- Développer de nouvelles habiletés / compétences
- Développer l’estime de soi et la confiance en soi
- Développer l’autonomie et la persévérance

Inscription obligatoire (places limitées)

Plus d\'informations vous seront transmises suite à votre inscription!
DTEND:20211214T113000
DTSTAMP:20260421T154441
DTSTART:20211214T093000
LAST-MODIFIED:20091109T101015Z
LOCATION:Devant le Centre de services le Cerisier, Parc du Mont Orford, Secteur Stukely., 200 Chemin du Camping, Orford, Québec, J1X7A2
SUMMARY;LANGUAGE=en-us:Rando-Escargot au Sentier du Coyote - Estrie
BEGIN:VALARM
TRIGGER:-PT1440M
ACTION:DISPLAY
DESCRIPTION:Reminder
END:VALARM
END:VEVENT
END:VCALENDAR
