BEGIN:VCALENDAR
BEGIN:VEVENT
CLASS:PUBLIC
CREATED:20260421T154253
DESCRIPTION:Cet atelier en ligne d\'une durée de 2 heures incluant la période de questions abordera les trucs et astuces pour profiter pleinement de l\'hiver avec un bébé ou de jeunes enfants. On discutera de:

 	L\'habillement et la thermorégulation
 	Les principes de conservation et de perte de chaleur
 	les modes de déplacement sur la neige (traineaux, poussettes et portage)
 	L\'hydratation et l\'alimentation
 	La gestion et la prévention des refroidissements et des engelures
 	Faire vivre des microaventures hivernales

Coût de 20$ et on répond à toutes vos questions pour apprécier pleinement l\'hiver à venir avec des petits!

Le lien de connexion vous sera transmis la veille.
DTEND:20211202T150000
DTSTAMP:20260421T154253
DTSTART:20211202T130000
LAST-MODIFIED:20091109T101015Z
LOCATION:ZOOM, , , , 
SUMMARY;LANGUAGE=en-us:Atelier en ligne: L'art de profiter de l'hiver avec ses enfants
BEGIN:VALARM
TRIGGER:-PT1440M
ACTION:DISPLAY
DESCRIPTION:Reminder
END:VALARM
END:VEVENT
END:VCALENDAR
