BEGIN:VCALENDAR
BEGIN:VEVENT
CLASS:PUBLIC
CREATED:20260421T173149
DESCRIPTION:Les Randos BB sont une occasion d\'initier un premier contact chez l’enfant avec la nature et permettre aux parents de poursuivre la pratique d\'activités de plein air. Une manière pour nous de présenter la nature comme un contexte d\'émerveillement pour tous!
Nos Randos BB sont offertes dans un cadre bienveillant où l\'enfant sera toujours le maître de la vitesse de déplacement du groupe. Néanmoins, on souhaite progresser sur un sentier pour atteindre un objectif commun.

Cette activité est parfaite pour des enfants en portage. Aucune poussette ne peut circuler sur ce sentier.
À noter que nous offrons gratuitement le prêt de porte-bébé ergonomique au besoin. Avisez-nous par courriel si vous aimeriez réserver un porte-bébé et nous en avons pour tous les âges! info@timoussedansbrousse.com

Lieu de rassemblement mardi 9 novembre 9h30

200 Chem. du Camping, Orford, QC J1X 7A2

Devant le Centre de services le Cerisier, Parc du Mont Orford, Secteur Stukely

Description de la balade \"Colline Serpentine\"
Deux sommets pour le prix d’un ! Le sentier du Pékan passe par la Colline des Pins et donne accès à des points de vue sur l’étang aux cerises. Au sommet de la Colline Serpentine, le Mont Orford se présente aux randonneurs. Magnifique avec les couleurs de l’automne! C\'est un grand défi de 6,4 km qui est très motivant en groupe! (PS. Un adulte marche d\'un pas régulier à environ 3 km/heure. Avec des enfants, on peut facilement diviser par deux.)

L\'activité a lieu beau temps, mauvais mais prenez note qu\'en cas de pluie extrême, un message courriel vous sera envoyé à 8h le dimanche matin pour vous préciser si l\'activité est reportée.

Apportez

 	Bouteille d\'eau
 	Collations et dîner facile à transporter parce que nous prendrons le temps nécessaire pour apprécier notre balade!
 	Vêtements approprié et de rechange au besoin, imperméable pour être prêt au surprise de l\'automne parfois imprévisible
 	Un rechange pour changer une couche
 	Bonnes chaussures de marche imperméable ou de pluie, pour marcher confortablement dans la boue et l\'eau

Inclus

 	Boisson chaude
 	Frais d\'accès au Sentiers
 	Plaisir et bonne compagnie!

Mesures COVID
Une distance de 2 mètres entre les adultes, et 1 mètre entre les enfants sera exigé en tout temps, et nous demandons à chaque parent de s\'assurer d\'être en mesure de respecter cette mesure. La bonne nouvelle c\'est que dehors, la distanciation est naturelle! Un masque pourrait être exigé si la distanciation n\'est pas respectée.

Objectifs :

 	Contrer le déficit nature
 	Créer un contact privilégié pour le bébé avec la nature de par l’exploration
 	Partager un moment positif en famille
 	Échanger avec d’autres familles
 	Découvrir la nature, la connaître et l’aimer
 	Initiation au jeu libre en nature – stimulation des sens
 	Développer de nouvelles habiletés / compétences
 	Développer l’estime de soi et la confiance en soi des parents
 	Inciter les parents à oser avec leur enfant en nature

Déroulement

Le déroulement peut varier selon les besoins des bébés. Des pauses peuvent s’ajouter. Différentes occasions d’exploration par le sens du bébé sont proposées au cours de la randonnée.

 	Accueil
 	Information sur l’endroit (espèces animales ou végétales présentes/ historique du lieu)
 	Rando et exploration
 	Pause – histoire en lien avec la nature et exploration
 	Poursuite de la rando

Pour toutes questions ou commentaires, communiquez avec nous:

info@timoussedansbrousse.com

581-888-9836
DTEND:20211109T140000
DTSTAMP:20260421T173149
DTSTART:20211109T093000
LAST-MODIFIED:20091109T101015Z
LOCATION:Centre de services le Cerisier, Parc national du Mont Orford, Secteur Stukely, 200 Chemin du Camping,  Orford, Québec, J1X 7A2
SUMMARY;LANGUAGE=en-us:Rando BB - Colline Serpentine au parc national du Mont Orford
BEGIN:VALARM
TRIGGER:-PT1440M
ACTION:DISPLAY
DESCRIPTION:Reminder
END:VALARM
END:VEVENT
END:VCALENDAR
