BEGIN:VCALENDAR
BEGIN:VEVENT
CLASS:PUBLIC
CREATED:20260421T171717
DESCRIPTION:Les Randos BB sont une occasion d\'initier un premier contact  avec la nature chez l’enfant et permettre aux parents de poursuivre leur pratique d\'activités de plein air. Une manière pour nous de présenter la nature comme un contexte d\'émerveillement pour tous!
Nos Randos BB sont offertes dans un cadre bienveillant où l\'enfant sera toujours le maître de la vitesse de déplacement du groupe. Néanmoins, on souhaite progresser sur un sentier pour atteindre un objectif commun.

Cette activité est parfaite pour des enfants en portage. Aucune poussette ne peut circuler sur ce sentier.
À noter que nous offrons gratuitement le prêt de porte-bébé ergonomique au besoin. Avisez-nous par courriel si vous aimeriez réserver un porte-bébé et nous en avons pour tous les âges! info@timoussedansbrousse.com

C\'est mercredi 3 novembre que nous offrons notre première Rando BB sur le magnifique sentier donnant accès à un point de vue très joli, celui de la Colline Larouche.

Lieu de rassemblement:
Sentiers de l\'Estrie, Stationnement S23.
Rendez-vous à 9h30 au Stationnement S23 situé au 362 Chemin J-A Bombardier, Racine, QC J0E 1Y0

Description de la balade:
La randonnée débute par le sentier qui longe le ruisseau Ély avec ses cascades en bruit de fond et se poursuit avec une montée jusqu’à la Colline Larouche qui donne accès à un magnifique point de vue. C\'est une distance de 4 km.

L\'activité a lieu beau temps, mauvais mais prenez note qu\'en cas de pluie extrême, un message courriel vous sera envoyé à 8h le dimanche matin pour vous préciser si l\'activité est reportée.

Apportez un rechange pour changer une couche, bouteille d\'eau, collation pour motiver vos petits, bonnes chaussures de marche imperméable ou de pluie, pour marcher confortablement dans la boue et l\'eau. Nous offrons une boisson chaude!

Inclus

 	Boisson chaude
 	Frais d\'accès au Sentiers
 	Plaisir et bonne compagnie!

Mesures COVID
Une distance de 2 mètres entre les adultes, et 1 mètre entre les enfants sera exigé en tout temps, et nous demandons à chaque parent de s\'assurer d\'être en mesure de respecter cette mesure. La bonne nouvelle c\'est que dehors, la distanciation est naturelle! Un masque pourrait être exigé si la distanciation n\'est pas respectée.

Objectifs :

 	Contrer le déficit nature
 	Créer un contact privilégié pour le bébé avec la nature de par l’exploration
 	Partager un moment positif en famille
 	Échanger avec d’autres familles
 	Découvrir la nature, la connaître et l’aimer
 	Initiation au jeu libre en nature – stimulation des sens
 	Développer de nouvelles habiletés / compétences
 	Développer l’estime de soi et la confiance en soi des parents
 	Inciter les parents à oser avec leur enfant en nature

Déroulement

Le déroulement peut varier selon les besoins des bébés. Des pauses peuvent s’ajouter. Différentes occasions d’exploration par le sens du bébé sont proposées au cours de la randonnée.

 	Accueil
 	Information sur l’endroit (espèces animales ou végétales présentes/ historique du lieu)
 	Rando et exploration
 	Pause – histoire en lien avec la nature et exploration
 	Poursuite de la rando

Pour toutes questions ou commentaires, communiquez avec nous:

info@timoussedansbrousse.com

581-888-9836
DTEND:20211103T120000
DTSTAMP:20260421T171717
DTSTART:20211103T093000
LAST-MODIFIED:20091109T101015Z
LOCATION:Sentiers de l'Estrie - Stationnement S23, 362 Chemin J-A Bombardier,,  Racine, Québec, J0E 1Y0
SUMMARY;LANGUAGE=en-us:Rando BB  - Colline Larouche, Sentiers de l'Estrie
BEGIN:VALARM
TRIGGER:-PT1440M
ACTION:DISPLAY
DESCRIPTION:Reminder
END:VALARM
END:VEVENT
END:VCALENDAR
